BEGIN:VCALENDAR
VERSION:2.0
PRODID:-//Amicale Vaudoise des Cuisiniers - ECPv6.15.20//NONSGML v1.0//EN
CALSCALE:GREGORIAN
METHOD:PUBLISH
X-WR-CALNAME:Amicale Vaudoise des Cuisiniers
X-ORIGINAL-URL:https://cuisiniers-vaudois.ch
X-WR-CALDESC:Évènements pour Amicale Vaudoise des Cuisiniers
REFRESH-INTERVAL;VALUE=DURATION:PT1H
X-Robots-Tag:noindex
X-PUBLISHED-TTL:PT1H
BEGIN:VTIMEZONE
TZID:Europe/Zurich
BEGIN:DAYLIGHT
TZOFFSETFROM:+0100
TZOFFSETTO:+0200
TZNAME:CEST
DTSTART:20220327T010000
END:DAYLIGHT
BEGIN:STANDARD
TZOFFSETFROM:+0200
TZOFFSETTO:+0100
TZNAME:CET
DTSTART:20221030T010000
END:STANDARD
BEGIN:DAYLIGHT
TZOFFSETFROM:+0100
TZOFFSETTO:+0200
TZNAME:CEST
DTSTART:20230326T010000
END:DAYLIGHT
BEGIN:STANDARD
TZOFFSETFROM:+0200
TZOFFSETTO:+0100
TZNAME:CET
DTSTART:20231029T010000
END:STANDARD
BEGIN:DAYLIGHT
TZOFFSETFROM:+0100
TZOFFSETTO:+0200
TZNAME:CEST
DTSTART:20240331T010000
END:DAYLIGHT
BEGIN:STANDARD
TZOFFSETFROM:+0200
TZOFFSETTO:+0100
TZNAME:CET
DTSTART:20241027T010000
END:STANDARD
END:VTIMEZONE
BEGIN:VEVENT
DTSTART;TZID=Europe/Zurich:20231106T180000
DTEND;TZID=Europe/Zurich:20231106T210000
DTSTAMP:20260421T113543
CREATED:20230319T140501Z
LAST-MODIFIED:20230319T140501Z
UID:4870-1699293600-1699304400@cuisiniers-vaudois.ch
SUMMARY:Assemblée du lundi 06 novembre 2023 à 18h\, Lausanne
DESCRIPTION:L’assemblée aura lieu au Restaurant Quai 14\, avenue de Sévelin 14 à Lausanne
URL:https://cuisiniers-vaudois.ch/evenement/assemblee-du-lundi-06-novembre-2023/
LOCATION:Marché de Noël à Vevey\, Marché de Noël\, Vevey\, Vaud\, 1800\, Suisse
CATEGORIES:Assemblée
END:VEVENT
END:VCALENDAR