BEGIN:VCALENDAR
VERSION:2.0
PRODID:-//Amicale Vaudoise des Cuisiniers - ECPv6.15.20//NONSGML v1.0//EN
CALSCALE:GREGORIAN
METHOD:PUBLISH
X-WR-CALNAME:Amicale Vaudoise des Cuisiniers
X-ORIGINAL-URL:https://cuisiniers-vaudois.ch
X-WR-CALDESC:Évènements pour Amicale Vaudoise des Cuisiniers
REFRESH-INTERVAL;VALUE=DURATION:PT1H
X-Robots-Tag:noindex
X-PUBLISHED-TTL:PT1H
BEGIN:VTIMEZONE
TZID:Europe/Zurich
BEGIN:DAYLIGHT
TZOFFSETFROM:+0100
TZOFFSETTO:+0200
TZNAME:CEST
DTSTART:20230326T010000
END:DAYLIGHT
BEGIN:STANDARD
TZOFFSETFROM:+0200
TZOFFSETTO:+0100
TZNAME:CET
DTSTART:20231029T010000
END:STANDARD
BEGIN:DAYLIGHT
TZOFFSETFROM:+0100
TZOFFSETTO:+0200
TZNAME:CEST
DTSTART:20240331T010000
END:DAYLIGHT
BEGIN:STANDARD
TZOFFSETFROM:+0200
TZOFFSETTO:+0100
TZNAME:CET
DTSTART:20241027T010000
END:STANDARD
BEGIN:DAYLIGHT
TZOFFSETFROM:+0100
TZOFFSETTO:+0200
TZNAME:CEST
DTSTART:20250330T010000
END:DAYLIGHT
BEGIN:STANDARD
TZOFFSETFROM:+0200
TZOFFSETTO:+0100
TZNAME:CET
DTSTART:20251026T010000
END:STANDARD
END:VTIMEZONE
BEGIN:VEVENT
DTSTART;TZID=Europe/Zurich:20240117T180000
DTEND;TZID=Europe/Zurich:20240117T220000
DTSTAMP:20260423T104439
CREATED:20231224T101758Z
LAST-MODIFIED:20231224T101758Z
UID:5481-1705514400-1705528800@cuisiniers-vaudois.ch
SUMMARY:Activité de janvier 2024
DESCRIPTION:Nous vous proposons l’activité suivante pour le mois de janvier 2024: \n\nbalade raquettes en soirée sur le sentier des lanternes aux Pléiades dès 18h (durée 45mn)\nfondue chez notre membre Thierry Bréhonnet au restaurant Le 1209\n\nPossibilité de participer à la balade et à la fondue ou séparément. \nPrix du repas: à venir \nNous conseillons le co-voiturage ou de monter en train (pas de train pour redescendre le dernier étant à 19h35) \n 
URL:https://cuisiniers-vaudois.ch/evenement/activite-de-janvier-2024/
LOCATION:Les Pléiades\, Route de Lally\, Blonay\, Vaud\, 1807\, Suisse
CATEGORIES:Activité
ORGANIZER;CN="Amicale Vaudoise des Cuisiniers":MAILTO:didier.sidot@gmail.com
END:VEVENT
END:VCALENDAR